BEGIN:VCALENDAR
PRODID:-//dvv-bw.de//dvv.Portalplattform//DE
VERSION:2.0
METHOD:PUBLISH
BEGIN:VEVENT
DTSTART:20260314T090000Z
DTEND:20260314T110000Z
DTSTAMP:20260314T090000Z
UID:523250471314-523250471212-1773442800000
SUMMARY:Ein Instrument für dich
LOCATION:Stadtteilmusikschule Botnang\, Griegstraße 10\, 70195 Stuttgart
DESCRIPTION:10 -10:30 Uhr Instrumentenvorstellung im Musiksaal\, danach Einzelberatung in den Räumlichkeiten der Stadtteilmusikschule Botnang. Vorgestellt werden die Instrumente: Blockflöte\, Gitarre\, Klarinette\, Klavier\, Schlagzeug\, Violine
CLASS:PUBLIC
X-ALT-DESC;FMTTYPE=text/html:10 -10:30 Uhr Instrumentenvorstellung im Musiksaal\, danach Einzelberatung in den Räumlichkeiten der Stadtteilmusikschule Botnang. Vorgestellt werden die Instrumente: Blockflöte\, Gitarre\, Klarinette\, Klavier\, Schlagzeug\, Violine
END:VEVENT
END:VCALENDAR
